BEGIN:VCALENDAR
VERSION:2.0
PRODID:-//www.turningpoint-wi.org//NONSGML kigkonsult.se iCalcreator 2.30.1
 0//
CALSCALE:GREGORIAN
METHOD:PUBLISH
UID:3ff0da3b-eb20-4de6-ba18-e13886315612
X-WR-CALDESC:Turningpoint offers a free walk-in legal clinic on the first T
 uesday of every month from 5:30 PM – 7:00 PM at our New Richmond location.
  There is a rotating schedule of volunteer attorneys who can provide answe
 rs to legal questions. Legal clinic participants cannot currently be repre
 sented by an attorney.
X-WR-RELCALID:e98b696b45db14e7b27aa6360f13c8c9
X-WR-TIMEZONE:America/Chicago
BEGIN:VTIMEZONE
TZID:America/Chicago
BEGIN:STANDARD
TZNAME:CST
DTSTART:20181104T020000
TZOFFSETFROM:-0500
TZOFFSETTO:-0600
RDATE:20191103T020000
RDATE:20201101T020000
END:STANDARD
BEGIN:DAYLIGHT
TZNAME:CDT
DTSTART:20190310T020000
TZOFFSETFROM:-0600
TZOFFSETTO:-0500
RDATE:20200308T020000
END:DAYLIGHT
END:VTIMEZONE
BEGIN:VEVENT
UID:5cdcf39a-1bb4-4495-aa3e-68474422fb2a
DTSTAMP:20260422T141544Z
DESCRIPTION:Turningpoint offers a free walk-in legal clinic on the first Tu
 esday of every month from 5:30 PM – 7:00 PM at our New Richmond location. 
 There is a rotating schedule of volunteer attorneys who can provide answer
 s to legal questions. Legal clinic participants cannot currently be repres
 ented by an attorney.
DTSTART;TZID=America/Chicago:20190702T170000
DTEND;TZID=America/Chicago:20190702T193000
LOCATION:New Richmond Satellite Offices - 337 East Fifth Street\, New Richm
 ond
SUMMARY:Legal Clinic
END:VEVENT
END:VCALENDAR
