BEGIN:VCALENDAR
VERSION:2.0
PRODID:-//www.turningpoint-wi.org//NONSGML kigkonsult.se iCalcreator 2.30.1
 0//
CALSCALE:GREGORIAN
METHOD:PUBLISH
UID:229935a5-3948-4ead-978c-48f6a3944abe
X-WR-CALDESC:For women who have recently experienced sexual violence\, as w
 ell as those who are coming to terms with past trauma.\n
X-WR-RELCALID:ff9f39f4f7fa15c801c7e81de6e6567e
X-WR-TIMEZONE:America/Chicago
BEGIN:VTIMEZONE
TZID:America/Chicago
BEGIN:STANDARD
TZNAME:CST
DTSTART:20181104T020000
TZOFFSETFROM:-0500
TZOFFSETTO:-0600
RDATE:20191103T020000
RDATE:20201101T020000
END:STANDARD
BEGIN:DAYLIGHT
TZNAME:CDT
DTSTART:20190310T020000
TZOFFSETFROM:-0600
TZOFFSETTO:-0500
RDATE:20200308T020000
END:DAYLIGHT
END:VTIMEZONE
BEGIN:VEVENT
UID:7498c2f9-a6e2-4acc-a997-e5db4a84d8b1
DTSTAMP:20260422T142904Z
DESCRIPTION:For women who have recently experienced sexual violence\, as we
 ll as those who are coming to terms with past trauma.\n
DTSTART;TZID=America/Chicago:20190703T183000
DTEND;TZID=America/Chicago:20190703T193000
LOCATION:Second Chances Building
SUMMARY:Sexual Violence Support Group
END:VEVENT
END:VCALENDAR
